BEGIN:VCALENDAR
VERSION:2.0
PRODID:-//Astronomija u Zagorju i šire - ECPv6.15.20//NONSGML v1.0//EN
CALSCALE:GREGORIAN
METHOD:PUBLISH
X-ORIGINAL-URL:https://auzs.ad-meteor.hr
X-WR-CALDESC:Događaji za Astronomija u Zagorju i šire
REFRESH-INTERVAL;VALUE=DURATION:PT1H
X-Robots-Tag:noindex
X-PUBLISHED-TTL:PT1H
BEGIN:VTIMEZONE
TZID:Europe/Zagreb
BEGIN:DAYLIGHT
TZOFFSETFROM:+0100
TZOFFSETTO:+0200
TZNAME:CEST
DTSTART:20250330T010000
END:DAYLIGHT
BEGIN:STANDARD
TZOFFSETFROM:+0200
TZOFFSETTO:+0100
TZNAME:CET
DTSTART:20251026T010000
END:STANDARD
BEGIN:DAYLIGHT
TZOFFSETFROM:+0100
TZOFFSETTO:+0200
TZNAME:CEST
DTSTART:20260329T010000
END:DAYLIGHT
BEGIN:STANDARD
TZOFFSETFROM:+0200
TZOFFSETTO:+0100
TZNAME:CET
DTSTART:20261025T010000
END:STANDARD
BEGIN:DAYLIGHT
TZOFFSETFROM:+0100
TZOFFSETTO:+0200
TZNAME:CEST
DTSTART:20270328T010000
END:DAYLIGHT
BEGIN:STANDARD
TZOFFSETFROM:+0200
TZOFFSETTO:+0100
TZNAME:CET
DTSTART:20271031T010000
END:STANDARD
END:VTIMEZONE
BEGIN:VEVENT
DTSTART;TZID=Europe/Zagreb:20260310T093000
DTEND;TZID=Europe/Zagreb:20260310T103000
DTSTAMP:20260426T043327
CREATED:20260320T064708Z
LAST-MODIFIED:20260320T064710Z
UID:751-1773135000-1773138600@auzs.ad-meteor.hr
SUMMARY:Radionica Sunčev sustav
DESCRIPTION:Radionica Sunčev sustav u grupi Ježići
URL:https://auzs.ad-meteor.hr/event/radionica-suncev-sustav/
CATEGORIES:Krapina
ORGANIZER;CN="Astronomsko dru%C5%A1tvo Meteor":MAILTO:info@ad-meteor.hr
END:VEVENT
BEGIN:VEVENT
DTSTART;TZID=Europe/Zagreb:20260320T154600
DTEND;TZID=Europe/Zagreb:20260320T154600
DTSTAMP:20260426T043327
CREATED:20260119T135210Z
LAST-MODIFIED:20260119T135721Z
UID:475-1774021560-1774021560@auzs.ad-meteor.hr
SUMMARY:Otvaranje početnog tečaja Crne rupe i galaksije
DESCRIPTION:U online školi astronomije otvara se e-kolegij „Crne rupe i galaksije“\, početni online tečaj osmišljen kako biste na razumljiv i postupan način zakoračili u svijet najvećih i najtajanstvenijih struktura svemira. \n\n\n\nTečaj obuhvaća temeljne pojmove moderne astronomije vezane uz nastanak i evoluciju zvijezda\, crnih rupa i galaksija\, uz poseban naglasak na razumijevanje što su crne rupe\, kako nastaju i kakvu ulogu imaju u svemiru. Polaznici će upoznati građu Mliječne staze\, različite tipove galaksija te suvremene metode njihova promatranja\, uključujući teleskope\, detekciju gravitacijskih valova i svemirske misije. \n\n\n\nE-kolegij je namijenjen široj javnosti i ne zahtijeva prethodno znanje iz astronomije ili fizike\, a svi sadržaji prilagođeni su samostalnom učenju. \n\n\n\nTečaju možete pristupiti na: https://skola-astronomije.hr/moodle/course/view.php?id=469
URL:https://auzs.ad-meteor.hr/event/otvaranje-pocetnog-tecaja-crne-rupe-i-galaksije/
CATEGORIES:Online škola astronomije
END:VEVENT
BEGIN:VEVENT
DTSTART;TZID=Europe/Zagreb:20260326T200000
DTEND;TZID=Europe/Zagreb:20260326T210000
DTSTAMP:20260426T043327
CREATED:20260318T082303Z
LAST-MODIFIED:20260318T082305Z
UID:643-1774555200-1774558800@auzs.ad-meteor.hr
SUMMARY:Astronomija u osnovnim i srednjim školama
DESCRIPTION:Radionica za nastavnike fizike
URL:https://auzs.ad-meteor.hr/event/astronomija-u-osnovnim-i-srednjim-skolama-2/
CATEGORIES:Online
ORGANIZER;CN="Astronomsko dru%C5%A1tvo Meteor":MAILTO:info@ad-meteor.hr
END:VEVENT
BEGIN:VEVENT
DTSTART;TZID=Europe/Zagreb:20260415T000000
DTEND;TZID=Europe/Zagreb:20260415T000000
DTSTAMP:20260426T043327
CREATED:20260115T154133Z
LAST-MODIFIED:20260119T135307Z
UID:424-1776211200-1776211200@auzs.ad-meteor.hr
SUMMARY:Otvaranje kratkog tečaja Lyridi i proljetni meteori
DESCRIPTION:U online školi astronomije otvara se e-kolegij „Lyridi i proljetni meteori“\, kratki tematski tečaj osmišljen kako biste upoznali jedan od najstarijih poznatih meteorskih rojeva i istražili ljepotu proljetnog noćnog neba. \n\n\n\nSadržaji uključuju i niz praktičnih savjeta za promatranje: kako pronaći radijant u zviježđu Lire\, kada je najbolje vrijeme za opažanje\, kako se pripremiti za noćno promatranje u proljetnim uvjetima te kako razlikovati Lyridе od sporadičnih meteora i drugih proljetnih rojeva. \n\n\n\nE-kolegij započinje 15. travnja 2026. \n\n\n\nTečaju možete pristupiti na https://skola-astronomije.hr/moodle/course/view.php?id=7777
URL:https://auzs.ad-meteor.hr/event/otvaranje-kratkog-tecaja-lyridi-i-proljetni-meteori/
CATEGORIES:Online škola astronomije
ORGANIZER;CN="Astronomsko dru%C5%A1tvo Meteor":MAILTO:info@ad-meteor.hr
END:VEVENT
BEGIN:VEVENT
DTSTART;TZID=Europe/Zagreb:20260415T203000
DTEND;TZID=Europe/Zagreb:20260415T220000
DTSTAMP:20260426T043327
CREATED:20260410T105101Z
LAST-MODIFIED:20260410T105104Z
UID:853-1776285000-1776290400@auzs.ad-meteor.hr
SUMMARY:Promatranje noćnog neba
DESCRIPTION:Promatranje noćnog neba na sportskom igralištu OŠ Side Košutić\, Radoboj
URL:https://auzs.ad-meteor.hr/event/promatranje-nocnog-neba/
CATEGORIES:Radoboj
ORGANIZER;CN="Astronomsko dru%C5%A1tvo Meteor":MAILTO:info@ad-meteor.hr
END:VEVENT
END:VCALENDAR