BEGIN:VCALENDAR
VERSION:2.0
PRODID:-//Astronomija u Zagorju i šire - ECPv6.15.20//NONSGML v1.0//EN
CALSCALE:GREGORIAN
METHOD:PUBLISH
X-WR-CALNAME:Astronomija u Zagorju i šire
X-ORIGINAL-URL:https://auzs.ad-meteor.hr
X-WR-CALDESC:Događaji za Astronomija u Zagorju i šire
REFRESH-INTERVAL;VALUE=DURATION:PT1H
X-Robots-Tag:noindex
X-PUBLISHED-TTL:PT1H
BEGIN:VTIMEZONE
TZID:Europe/Zagreb
BEGIN:DAYLIGHT
TZOFFSETFROM:+0100
TZOFFSETTO:+0200
TZNAME:CEST
DTSTART:20250330T010000
END:DAYLIGHT
BEGIN:STANDARD
TZOFFSETFROM:+0200
TZOFFSETTO:+0100
TZNAME:CET
DTSTART:20251026T010000
END:STANDARD
BEGIN:DAYLIGHT
TZOFFSETFROM:+0100
TZOFFSETTO:+0200
TZNAME:CEST
DTSTART:20260329T010000
END:DAYLIGHT
BEGIN:STANDARD
TZOFFSETFROM:+0200
TZOFFSETTO:+0100
TZNAME:CET
DTSTART:20261025T010000
END:STANDARD
BEGIN:DAYLIGHT
TZOFFSETFROM:+0100
TZOFFSETTO:+0200
TZNAME:CEST
DTSTART:20270328T010000
END:DAYLIGHT
BEGIN:STANDARD
TZOFFSETFROM:+0200
TZOFFSETTO:+0100
TZNAME:CET
DTSTART:20271031T010000
END:STANDARD
END:VTIMEZONE
BEGIN:VEVENT
DTSTART;TZID=Europe/Zagreb:20260107T180000
DTEND;TZID=Europe/Zagreb:20260107T190000
DTSTAMP:20260426T041019
CREATED:20260105T103610Z
LAST-MODIFIED:20260119T135340Z
UID:376-1767808800-1767812400@auzs.ad-meteor.hr
SUMMARY:Što (ni)je astronomija?
DESCRIPTION:Na ovom online predavanju sudionici će dobiti jasan i razumljiv uvod u astronomiju kao znanstvenu disciplinu – što ona jest\, čime se bavi\, ali i koje su česte zablude o astronomiji i svemiru. Predavanje će obuhvatiti osnovne pojmove\, metode istraživanja\, razliku između astronomije i srodnih (ali različitih) područja te ulogu astronomije u suvremenoj znanosti i svakodnevnom životu. \n\n\n\nPredavanje je namijenjeno svima koji su znatiželjni\, bez obzira na dob\, obrazovanje ili prethodno znanje. Posebno je prikladan kao prvi korak za one koji se žele uključiti u aktivnosti Online škole astronomije ili se tek upoznaju s ovim fascinantnim područjem znanosti. \n\n\n\nZa predavanje se možete prijaviti na https://events.teams.microsoft.com/event/459e740e-5f7b-4491-a370-af9e8fac5f89@2f3574cf-77d1-4b53-8358-93d78bde4201
URL:https://auzs.ad-meteor.hr/event/sto-nije-astronomija/
CATEGORIES:Online
ORGANIZER;CN="Astronomsko dru%C5%A1tvo Meteor":MAILTO:info@ad-meteor.hr
END:VEVENT
BEGIN:VEVENT
DTSTART;TZID=Europe/Zagreb:20260121T200000
DTEND;TZID=Europe/Zagreb:20260121T210000
DTSTAMP:20260426T041019
CREATED:20260116T070800Z
LAST-MODIFIED:20260119T135333Z
UID:466-1769025600-1769029200@auzs.ad-meteor.hr
SUMMARY:Sunčev sustav
DESCRIPTION:Sunčev sustav naš je kozmički dom – ali koliko ga zaista poznajemo?Na ovom predavanju sudionici će dobiti pregled strukture Sunčeva sustava\, njegovog nastanka i razvoja\, uz poseban naglasak na planete\, njihove mjesece\, patuljaste planete\, asteroide i komete. Govorit će se i o suvremenim istraživanjima\, svemirskim misijama te najnovijim znanstvenim spoznajama o tijelima koja kruže oko našeg Sunca. \n\n\n\nPredavanje je namijenjeno svim zainteresiranima\, bez obzira na dob i prethodno znanje\, a posebno onima koji žele proširiti razumijevanje Sunčeva sustava i njegovog mjesta u svemiru. \n\n\n\nZa predavanje se možete prijaviti na https://events.teams.microsoft.com/event/9f42db55-0362-4aac-8f53-c9459538f03a@2f3574cf-77d1-4b53-8358-93d78bde4201
URL:https://auzs.ad-meteor.hr/event/suncev-sustav/
CATEGORIES:Online
ORGANIZER;CN="Astronomsko dru%C5%A1tvo Meteor":MAILTO:info@ad-meteor.hr
END:VEVENT
END:VCALENDAR