BEGIN:VCALENDAR
VERSION:2.0
PRODID:-//Astronomija u Zagorju i šire - ECPv6.15.20//NONSGML v1.0//EN
CALSCALE:GREGORIAN
METHOD:PUBLISH
X-ORIGINAL-URL:https://auzs.ad-meteor.hr
X-WR-CALDESC:Događaji za Astronomija u Zagorju i šire
REFRESH-INTERVAL;VALUE=DURATION:PT1H
X-Robots-Tag:noindex
X-PUBLISHED-TTL:PT1H
BEGIN:VTIMEZONE
TZID:Europe/Zagreb
BEGIN:DAYLIGHT
TZOFFSETFROM:+0100
TZOFFSETTO:+0200
TZNAME:CEST
DTSTART:20240331T010000
END:DAYLIGHT
BEGIN:STANDARD
TZOFFSETFROM:+0200
TZOFFSETTO:+0100
TZNAME:CET
DTSTART:20241027T010000
END:STANDARD
BEGIN:DAYLIGHT
TZOFFSETFROM:+0100
TZOFFSETTO:+0200
TZNAME:CEST
DTSTART:20250330T010000
END:DAYLIGHT
BEGIN:STANDARD
TZOFFSETFROM:+0200
TZOFFSETTO:+0100
TZNAME:CET
DTSTART:20251026T010000
END:STANDARD
BEGIN:DAYLIGHT
TZOFFSETFROM:+0100
TZOFFSETTO:+0200
TZNAME:CEST
DTSTART:20260329T010000
END:DAYLIGHT
BEGIN:STANDARD
TZOFFSETFROM:+0200
TZOFFSETTO:+0100
TZNAME:CET
DTSTART:20261025T010000
END:STANDARD
END:VTIMEZONE
BEGIN:VEVENT
DTSTART;TZID=Europe/Zagreb:20251221T160300
DTEND;TZID=Europe/Zagreb:20251221T160300
DTSTAMP:20260426T060423
CREATED:20251220T111317Z
LAST-MODIFIED:20260119T135352Z
UID:147-1766332980-1766332980@auzs.ad-meteor.hr
SUMMARY:Otvaranje tečaja Sunčev sustav - napredni
DESCRIPTION:U online školi astronomije otvara se tečaj „Sunčev sustav – napredni“\, osmišljen kao znanstveno putovanje kroz složene fenomene i najnovija otkrića našeg svemirskog susjedstva. \n\n\n\nOvaj tečaj namijenjen je zaljubljenicima u astronomiju koji žele produbiti svoje razumijevanje mehanike\, evolucije i međudjelovanja tijela unutar Sunčevog sustava. Kroz 10 tematskih modula polaznici će se upoznati s naprednim konceptima\, od heliosfere i dinamike formacije planeta\, preko unutarnjih i vanjskih planeta i njihovih prirodnih satelita\, do suvremenih svemirskih misija i budućih istraživačkih planova. \n\n\n\nPoseban naglasak stavljen je na detaljne analize i primjere iz stvarnih misija\, kroz koje se obrađuju složeni procesi poput tektonske aktivnosti Marsa\, gubitaka atmosfera\, planetarnih magnetosfera\, kao i pitanja habitabilnosti i mogućnosti terraformiranja. \n\n\n\nE-kolegij se otvara na zimski solsticij\, 21. prosinca 2025. u 16:03\, simboličan trenutak najduže noći u godini. \n\n\n\nPozivamo vas da se pridružite ovom intelektualnom izazovu i produbite svoje razumijevanje Sunčeva sustava iz perspektive suvremene znanosti i tehnologije. \n\n\n\nTečaju možete pristupiti na https://skola-astronomije.hr/moodle/course/view.php?id=15
URL:https://auzs.ad-meteor.hr/event/otvaranje-tecaja-suncev-sustav-napredni/
CATEGORIES:Online škola astronomije
ORGANIZER;CN="Astronomsko dru%C5%A1tvo Meteor":MAILTO:info@ad-meteor.hr
END:VEVENT
END:VCALENDAR