BEGIN:VCALENDAR
VERSION:2.0
PRODID:-//Astronomija u Zagorju i šire - ECPv6.15.20//NONSGML v1.0//EN
CALSCALE:GREGORIAN
METHOD:PUBLISH
X-ORIGINAL-URL:https://auzs.ad-meteor.hr
X-WR-CALDESC:Događaji za Astronomija u Zagorju i šire
REFRESH-INTERVAL;VALUE=DURATION:PT1H
X-Robots-Tag:noindex
X-PUBLISHED-TTL:PT1H
BEGIN:VTIMEZONE
TZID:Europe/Zagreb
BEGIN:DAYLIGHT
TZOFFSETFROM:+0100
TZOFFSETTO:+0200
TZNAME:CEST
DTSTART:20250330T010000
END:DAYLIGHT
BEGIN:STANDARD
TZOFFSETFROM:+0200
TZOFFSETTO:+0100
TZNAME:CET
DTSTART:20251026T010000
END:STANDARD
BEGIN:DAYLIGHT
TZOFFSETFROM:+0100
TZOFFSETTO:+0200
TZNAME:CEST
DTSTART:20260329T010000
END:DAYLIGHT
BEGIN:STANDARD
TZOFFSETFROM:+0200
TZOFFSETTO:+0100
TZNAME:CET
DTSTART:20261025T010000
END:STANDARD
BEGIN:DAYLIGHT
TZOFFSETFROM:+0100
TZOFFSETTO:+0200
TZNAME:CEST
DTSTART:20270328T010000
END:DAYLIGHT
BEGIN:STANDARD
TZOFFSETFROM:+0200
TZOFFSETTO:+0100
TZNAME:CET
DTSTART:20271031T010000
END:STANDARD
END:VTIMEZONE
BEGIN:VEVENT
DTSTART;TZID=Europe/Zagreb:20260310T093000
DTEND;TZID=Europe/Zagreb:20260310T103000
DTSTAMP:20260426T041511
CREATED:20260320T064708Z
LAST-MODIFIED:20260320T064710Z
UID:751-1773135000-1773138600@auzs.ad-meteor.hr
SUMMARY:Radionica Sunčev sustav
DESCRIPTION:Radionica Sunčev sustav u grupi Ježići
URL:https://auzs.ad-meteor.hr/event/radionica-suncev-sustav/
CATEGORIES:Krapina
ORGANIZER;CN="Astronomsko dru%C5%A1tvo Meteor":MAILTO:info@ad-meteor.hr
END:VEVENT
END:VCALENDAR